BEGIN:VCALENDAR
VERSION:2.0
PRODID:-//VfL Stammheim - ECPv6.15.20//NONSGML v1.0//EN
CALSCALE:GREGORIAN
METHOD:PUBLISH
X-ORIGINAL-URL:https://vfl-stammheim.de
X-WR-CALDESC:Veranstaltungen für VfL Stammheim
REFRESH-INTERVAL;VALUE=DURATION:PT1H
X-Robots-Tag:noindex
X-PUBLISHED-TTL:PT1H
BEGIN:VTIMEZONE
TZID:Europe/Helsinki
BEGIN:DAYLIGHT
TZOFFSETFROM:+0200
TZOFFSETTO:+0300
TZNAME:EEST
DTSTART:20230326T010000
END:DAYLIGHT
BEGIN:STANDARD
TZOFFSETFROM:+0300
TZOFFSETTO:+0200
TZNAME:EET
DTSTART:20231029T010000
END:STANDARD
BEGIN:DAYLIGHT
TZOFFSETFROM:+0200
TZOFFSETTO:+0300
TZNAME:EEST
DTSTART:20240331T010000
END:DAYLIGHT
BEGIN:STANDARD
TZOFFSETFROM:+0300
TZOFFSETTO:+0200
TZNAME:EET
DTSTART:20241027T010000
END:STANDARD
BEGIN:DAYLIGHT
TZOFFSETFROM:+0200
TZOFFSETTO:+0300
TZNAME:EEST
DTSTART:20250330T010000
END:DAYLIGHT
BEGIN:STANDARD
TZOFFSETFROM:+0300
TZOFFSETTO:+0200
TZNAME:EET
DTSTART:20251026T010000
END:STANDARD
END:VTIMEZONE
BEGIN:VEVENT
DTSTART;TZID=Europe/Helsinki:20240727T180000
DTEND;TZID=Europe/Helsinki:20240727T220000
DTSTAMP:20260420T100710
CREATED:20240708T021015Z
LAST-MODIFIED:20260225T055550Z
UID:1396-1722103200-1722117600@vfl-stammheim.de
SUMMARY:11 METER TURNIER
DESCRIPTION:Zeit und Ort Das Elfmeterturnier findet am Samstag\, den 27. Juli 2024 ab 18 Uhr auf dem Sportgelände des VfL Stammheim an den Rottannen statt. Wir bitten jedes Team\, sich möglichst eine halbe Stunde vor ihrem 1. Spiel bei der Turnierleitung anzumelden. Teilnahmeberechtigung Teilnahmeberechtigt sind alle ab 16 Jahren\, die gerne mitmachen möchten. Anmeldung und Teilnehmerzahl Die Anmeldung ist bis zum Sonntag\, 21.07.2024 möglich. Die Anmeldungen werden nach Zeitpunkt des Eingangs berücksichtigt. Sollte die maximale Teilnehmeranzahl bereits vor dem Anmeldeschluss erreicht sein\, können keine weiteren Anmeldungen mehr berücksichtigt werden. Die Anmeldung erfolgt unter Angabe eines Mannschaftsverantwortlichen samt Kontaktdaten\, sowie eines frei wählbaren Mannschaftsnamens an folgende E-MailAdresse: vfl-11-meter-turnier@gmx.de. Startgeld Für die Teilnahme ist ein Startgeld in Höhe von EUR 30\,00 zu entrichten. Das Startgeld ist vor dem ersten Spiel bei der Turnierleitung zu bezahlen. Preisgelder 1. Platz 200 Euro 2. Platz 150 Euro 3. Platz 100 Euro 4. Platz 75 Euro Mannschaft / Spieleranzahl Eine Mannschaft besteht aus mindestens 5 Spielern (wenn der Torwart mitschießt) bzw. aus mindestens 6 Spielern (wenn der Torwart nicht mitschießt). Wird eine Mannschaft während des Turniers durch Verletzung eines Spielers auf weniger als 5 Spieler dezimiert\, so entscheidet das Los\, wer von den restlichen Spielern zweimal schießen muss. Ein Spieler darf während des gesamten Turniers nur bei einer Mannschaft gemeldet und eingesetzt werden. Sollte ein Spieler bei einer anderen Mannschaft mitschießen\, so wird dieses Spiel als verloren gewertet. Dies gilt auch\, wenn die ursprüngliche Mannschaft des Spielers bereits ausgeschieden ist. Es besteht die Möglichkeit\, in gemischten Teams (Männer und Damen) anzutreten.
URL:https://vfl-stammheim.de/event/11-meter-turnier/
LOCATION:Sportplatz Rottannen\, Calw-Stammheim\, 75365
CATEGORIES:Veranstaltungen
ORGANIZER;CN="VfL Stammheim e.V.":MAILTO:info@vfl-stammheim.de
END:VEVENT
END:VCALENDAR