BEGIN:VCALENDAR
VERSION:2.0
PRODID:-//VfL Stammheim - ECPv6.15.20//NONSGML v1.0//EN
CALSCALE:GREGORIAN
METHOD:PUBLISH
X-WR-CALNAME:VfL Stammheim
X-ORIGINAL-URL:https://vfl-stammheim.de
X-WR-CALDESC:Veranstaltungen für VfL Stammheim
REFRESH-INTERVAL;VALUE=DURATION:PT1H
X-Robots-Tag:noindex
X-PUBLISHED-TTL:PT1H
BEGIN:VTIMEZONE
TZID:Europe/Helsinki
BEGIN:DAYLIGHT
TZOFFSETFROM:+0200
TZOFFSETTO:+0300
TZNAME:EEST
DTSTART:20240331T010000
END:DAYLIGHT
BEGIN:STANDARD
TZOFFSETFROM:+0300
TZOFFSETTO:+0200
TZNAME:EET
DTSTART:20241027T010000
END:STANDARD
BEGIN:DAYLIGHT
TZOFFSETFROM:+0200
TZOFFSETTO:+0300
TZNAME:EEST
DTSTART:20250330T010000
END:DAYLIGHT
BEGIN:STANDARD
TZOFFSETFROM:+0300
TZOFFSETTO:+0200
TZNAME:EET
DTSTART:20251026T010000
END:STANDARD
BEGIN:DAYLIGHT
TZOFFSETFROM:+0200
TZOFFSETTO:+0300
TZNAME:EEST
DTSTART:20260329T010000
END:DAYLIGHT
BEGIN:STANDARD
TZOFFSETFROM:+0300
TZOFFSETTO:+0200
TZNAME:EET
DTSTART:20261025T010000
END:STANDARD
END:VTIMEZONE
BEGIN:VEVENT
DTSTART;TZID=Europe/Helsinki:20251228T160000
DTEND;TZID=Europe/Helsinki:20251228T200000
DTSTAMP:20260421T065756
CREATED:20251201T122020Z
LAST-MODIFIED:20260225T055439Z
UID:2796-1766937600-1766952000@vfl-stammheim.de
SUMMARY:Maurich Theater Calw-Stammheim 28.12.25
DESCRIPTION:Aufführungen (Einlass eine Stunde vor Aufführungsbeginn) \n\nSamstag\, 27. Dezember 2025 um 19.30 Uhr\nSonntag\, 28. Dezember 2025 um 16.00 Uhr\nFreitag\, 2. Januar 2026 um 19.30 Uhr\nSamstag\, 3. Januar 2026 um 19.30 Uhr\n\nIhr erhaltet Karten ab 1. Dezember bei den Vorverkaufsstellen  Sparkasse Heumaden und Stammheim\, GM Sportswear\, Teeladen\, Alte Feuerwehr\, Mode Schaber\, Pfiff! Altburg |  \nKeine EC-Kartenzahlung möglich! \nWir freuen uns schon riesig auf euren Besuch!
URL:https://vfl-stammheim.de/event/maurich-theater-calw-stammheim-28-12-25/
LOCATION:Maria von Linden Gymnasium Stammheim\, Schindelbergweg 9-11\, Calw - Stammheim\, BW\, 75365\, Germany
CATEGORIES:Veranstaltungen
ORGANIZER;CN="Maurich Theater Calw-Stammheim e.V.":MAILTO:tanja.lietz@gmx.de
END:VEVENT
END:VCALENDAR