BEGIN:VCALENDAR
VERSION:2.0
PRODID:-//VfL Stammheim - ECPv6.15.20//NONSGML v1.0//EN
CALSCALE:GREGORIAN
METHOD:PUBLISH
X-WR-CALNAME:VfL Stammheim
X-ORIGINAL-URL:https://vfl-stammheim.de
X-WR-CALDESC:Veranstaltungen für VfL Stammheim
REFRESH-INTERVAL;VALUE=DURATION:PT1H
X-Robots-Tag:noindex
X-PUBLISHED-TTL:PT1H
BEGIN:VTIMEZONE
TZID:Europe/Helsinki
BEGIN:DAYLIGHT
TZOFFSETFROM:+0200
TZOFFSETTO:+0300
TZNAME:EEST
DTSTART:20240331T010000
END:DAYLIGHT
BEGIN:STANDARD
TZOFFSETFROM:+0300
TZOFFSETTO:+0200
TZNAME:EET
DTSTART:20241027T010000
END:STANDARD
BEGIN:DAYLIGHT
TZOFFSETFROM:+0200
TZOFFSETTO:+0300
TZNAME:EEST
DTSTART:20250330T010000
END:DAYLIGHT
BEGIN:STANDARD
TZOFFSETFROM:+0300
TZOFFSETTO:+0200
TZNAME:EET
DTSTART:20251026T010000
END:STANDARD
BEGIN:DAYLIGHT
TZOFFSETFROM:+0200
TZOFFSETTO:+0300
TZNAME:EEST
DTSTART:20260329T010000
END:DAYLIGHT
BEGIN:STANDARD
TZOFFSETFROM:+0300
TZOFFSETTO:+0200
TZNAME:EET
DTSTART:20261025T010000
END:STANDARD
END:VTIMEZONE
BEGIN:VEVENT
DTSTART;TZID=Europe/Helsinki:20251213T130000
DTEND;TZID=Europe/Helsinki:20251213T170000
DTSTAMP:20260421T014123
CREATED:20251203T082211Z
LAST-MODIFIED:20260225T055647Z
UID:2840-1765630800-1765645200@vfl-stammheim.de
SUMMARY:Turnen vor Weihnachten
DESCRIPTION:Wir wollen mit allen Kindern am \nSamstag\, 13.12.2025 von 13:00 Uhr – 16:00 Uhr \nin der Turnhalle Badstraße in Calw einen sportlichen Abschluß\nmachen. Ab 16:00 Uhr stellen sich die einzelnen Gruppen vor.\nEnde ca. 17:00 Uhr. \nDazu sind alle Eltern herzlich eingeladen! \nDie Kinder sollen ein Getränk mitbringen\, für was zu Essen ist\ngesorgt. Bitte auch eine schwarze Trainingshose und ein\nweißes oder grünes T-Shirt anziehen. \nEs freuen sich die Übungsleiterinnen \nWir beginnen am 13.01.2026 wieder mit dem Turnen!
URL:https://vfl-stammheim.de/event/turnen-vor-weihnachten/
LOCATION:Sporthalle Badstraße\, Badstraße 23\, Calw\, BW\, 75365
CATEGORIES:Veranstaltungen
ORGANIZER;CN="VfL Stammheim e.V.":MAILTO:info@vfl-stammheim.de
END:VEVENT
END:VCALENDAR