BEGIN:VCALENDAR
VERSION:2.0
PRODID:-//VfL Stammheim - ECPv6.15.20//NONSGML v1.0//EN
CALSCALE:GREGORIAN
METHOD:PUBLISH
X-WR-CALNAME:VfL Stammheim
X-ORIGINAL-URL:https://vfl-stammheim.de
X-WR-CALDESC:Veranstaltungen für VfL Stammheim
REFRESH-INTERVAL;VALUE=DURATION:PT1H
X-Robots-Tag:noindex
X-PUBLISHED-TTL:PT1H
BEGIN:VTIMEZONE
TZID:Europe/Helsinki
BEGIN:DAYLIGHT
TZOFFSETFROM:+0200
TZOFFSETTO:+0300
TZNAME:EEST
DTSTART:20240331T010000
END:DAYLIGHT
BEGIN:STANDARD
TZOFFSETFROM:+0300
TZOFFSETTO:+0200
TZNAME:EET
DTSTART:20241027T010000
END:STANDARD
BEGIN:DAYLIGHT
TZOFFSETFROM:+0200
TZOFFSETTO:+0300
TZNAME:EEST
DTSTART:20250330T010000
END:DAYLIGHT
BEGIN:STANDARD
TZOFFSETFROM:+0300
TZOFFSETTO:+0200
TZNAME:EET
DTSTART:20251026T010000
END:STANDARD
BEGIN:DAYLIGHT
TZOFFSETFROM:+0200
TZOFFSETTO:+0300
TZNAME:EEST
DTSTART:20260329T010000
END:DAYLIGHT
BEGIN:STANDARD
TZOFFSETFROM:+0300
TZOFFSETTO:+0200
TZNAME:EET
DTSTART:20261025T010000
END:STANDARD
END:VTIMEZONE
BEGIN:VEVENT
DTSTART;TZID=Europe/Helsinki:20251206T100000
DTEND;TZID=Europe/Helsinki:20251206T170000
DTSTAMP:20260420T220251
CREATED:20251124T141522Z
LAST-MODIFIED:20260225T055439Z
UID:2777-1765015200-1765040400@vfl-stammheim.de
SUMMARY:Bewirtung Kömpf
DESCRIPTION:  \n  \n  \n  \n  \n  \n  \nKaffee\, Kuchen\, Würste vom Grill\, Weihnachtsstimmung und vieles mehr…
URL:https://vfl-stammheim.de/event/bewirtung-koempf/
LOCATION:Kömpf Bauzentrum\, Leibnitzstr. 2\, Calw\, BW\, 75365
CATEGORIES:Veranstaltungen
ORGANIZER;CN="VfL Stammheim e.V.":MAILTO:info@vfl-stammheim.de
END:VEVENT
END:VCALENDAR