BEGIN:VCALENDAR
VERSION:2.0
PRODID:-//VfL Stammheim - ECPv6.15.20//NONSGML v1.0//EN
CALSCALE:GREGORIAN
METHOD:PUBLISH
X-ORIGINAL-URL:https://vfl-stammheim.de
X-WR-CALDESC:Veranstaltungen für VfL Stammheim
REFRESH-INTERVAL;VALUE=DURATION:PT1H
X-Robots-Tag:noindex
X-PUBLISHED-TTL:PT1H
BEGIN:VTIMEZONE
TZID:Europe/Helsinki
BEGIN:DAYLIGHT
TZOFFSETFROM:+0200
TZOFFSETTO:+0300
TZNAME:EEST
DTSTART:20240331T010000
END:DAYLIGHT
BEGIN:STANDARD
TZOFFSETFROM:+0300
TZOFFSETTO:+0200
TZNAME:EET
DTSTART:20241027T010000
END:STANDARD
BEGIN:DAYLIGHT
TZOFFSETFROM:+0200
TZOFFSETTO:+0300
TZNAME:EEST
DTSTART:20250330T010000
END:DAYLIGHT
BEGIN:STANDARD
TZOFFSETFROM:+0300
TZOFFSETTO:+0200
TZNAME:EET
DTSTART:20251026T010000
END:STANDARD
BEGIN:DAYLIGHT
TZOFFSETFROM:+0200
TZOFFSETTO:+0300
TZNAME:EEST
DTSTART:20260329T010000
END:DAYLIGHT
BEGIN:STANDARD
TZOFFSETFROM:+0300
TZOFFSETTO:+0200
TZNAME:EET
DTSTART:20261025T010000
END:STANDARD
END:VTIMEZONE
BEGIN:VEVENT
DTSTART;TZID=Europe/Helsinki:20250309T130000
DTEND;TZID=Europe/Helsinki:20250309T150000
DTSTAMP:20260422T184115
CREATED:20250225T112821Z
LAST-MODIFIED:20260225T055116Z
UID:1935-1741525200-1741532400@vfl-stammheim.de
SUMMARY:Herren-Reserve | Kreisliga A; Kreisliga
DESCRIPTION:VfL Stammheim (Flex)\n\n:\n\n\nSC Neubulach
URL:https://vfl-stammheim.de/event/herren-reserve-kreisliga-a-kreisliga/
LOCATION:Kunstrasenplatz\, Stadion\, Jahnstraße\, Jahnstraße 36\, Calw - Stammheim\, 75365
CATEGORIES:Ligaspiele
ORGANIZER;CN="VfL Stammheim e.V.":MAILTO:info@vfl-stammheim.de
END:VEVENT
BEGIN:VEVENT
DTSTART;TZID=Europe/Helsinki:20250309T150000
DTEND;TZID=Europe/Helsinki:20250309T170000
DTSTAMP:20260422T184115
CREATED:20250225T112915Z
LAST-MODIFIED:20260225T055116Z
UID:1937-1741532400-1741539600@vfl-stammheim.de
SUMMARY:Herren | Kreisliga A; Kreisliga
DESCRIPTION:VfL Stammheim\n\n:\n\n\nSC Neubulach
URL:https://vfl-stammheim.de/event/herren-kreisliga-a-kreisliga/
LOCATION:Kunstrasenplatz\, Stadion\, Jahnstraße\, Jahnstraße 36\, Calw - Stammheim\, 75365
CATEGORIES:Ligaspiele
ORGANIZER;CN="VfL Stammheim e.V.":MAILTO:info@vfl-stammheim.de
END:VEVENT
END:VCALENDAR